BEGIN:VCALENDAR
VERSION:2.0
PRODID:-//California Deer Association - ECPv6.15.20//NONSGML v1.0//EN
CALSCALE:GREGORIAN
METHOD:PUBLISH
X-ORIGINAL-URL:https://caldeer.org
X-WR-CALDESC:Events for California Deer Association
REFRESH-INTERVAL;VALUE=DURATION:PT1H
X-Robots-Tag:noindex
X-PUBLISHED-TTL:PT1H
BEGIN:VTIMEZONE
TZID:America/Los_Angeles
BEGIN:DAYLIGHT
TZOFFSETFROM:-0800
TZOFFSETTO:-0700
TZNAME:PDT
DTSTART:20240310T100000
END:DAYLIGHT
BEGIN:STANDARD
TZOFFSETFROM:-0700
TZOFFSETTO:-0800
TZNAME:PST
DTSTART:20241103T090000
END:STANDARD
BEGIN:DAYLIGHT
TZOFFSETFROM:-0800
TZOFFSETTO:-0700
TZNAME:PDT
DTSTART:20250309T100000
END:DAYLIGHT
BEGIN:STANDARD
TZOFFSETFROM:-0700
TZOFFSETTO:-0800
TZNAME:PST
DTSTART:20251102T090000
END:STANDARD
BEGIN:DAYLIGHT
TZOFFSETFROM:-0800
TZOFFSETTO:-0700
TZNAME:PDT
DTSTART:20260308T100000
END:DAYLIGHT
BEGIN:STANDARD
TZOFFSETFROM:-0700
TZOFFSETTO:-0800
TZNAME:PST
DTSTART:20261101T090000
END:STANDARD
BEGIN:DAYLIGHT
TZOFFSETFROM:-0800
TZOFFSETTO:-0700
TZNAME:PDT
DTSTART:20270314T100000
END:DAYLIGHT
BEGIN:STANDARD
TZOFFSETFROM:-0700
TZOFFSETTO:-0800
TZNAME:PST
DTSTART:20271107T090000
END:STANDARD
END:VTIMEZONE
BEGIN:VEVENT
DTSTART;TZID=America/Los_Angeles:20260131T153000
DTEND;TZID=America/Los_Angeles:20260131T200000
DTSTAMP:20260425T171201
CREATED:20251102T231924Z
LAST-MODIFIED:20260306T160134Z
UID:15642-1769873400-1769889600@caldeer.org
SUMMARY:CDA Dinner Redding CA
DESCRIPTION:Fresno Chapter’s Conservation Gala\n				\n				\n				\n				\n									2026 Event Concluded.Thank you to all of our supporters for a successful chapter launch.Save the date for our 2027 banquet.								\n				\n				\n				\n									\n					\n						\n									get tickets\n					\n					\n				\n								\n				\n				\n				\n							Fresno Chapter’s Conservation Gala Flyer
URL:https://caldeer.org/event/redding-banquet-2026/
CATEGORIES:Redding Chapter,VIP Events
ATTACH;FMTTYPE=:
END:VEVENT
BEGIN:VEVENT
DTSTART;TZID=America/Los_Angeles:20260110T170000
DTEND;TZID=America/Los_Angeles:20260110T210000
DTSTAMP:20260425T171201
CREATED:20251205T003434Z
LAST-MODIFIED:20260402T193026Z
UID:15891-1768064400-1768078800@caldeer.org
SUMMARY:Colusa County Chapter Annual Banquet and Fundraiser
DESCRIPTION:Fresno Chapter’s Conservation Gala\n				\n				\n				\n				\n									2026 Event Concluded.Thank you to all of our supporters for a successful chapter launch.Save the date for our 2027 banquet.								\n				\n				\n				\n									\n					\n						\n									get tickets\n					\n					\n				\n								\n				\n				\n				\n							Fresno Chapter’s Conservation Gala Flyer
URL:https://caldeer.org/event/colusa-banquet/
LOCATION:Colusa County Fairgrounds\, 1303 10th Street\, Colusa\, CA\, 95932\, United States
CATEGORIES:Colusa County Chapter
ATTACH;FMTTYPE=:
END:VEVENT
BEGIN:VEVENT
DTSTART;TZID=America/Los_Angeles:20251216T080000
DTEND;TZID=America/Los_Angeles:20251216T170000
DTSTAMP:20260425T171201
CREATED:20251216T234059Z
LAST-MODIFIED:20260120T172227Z
UID:16184-1765872000-1765904400@caldeer.org
SUMMARY:Ukiah CDA banquet
DESCRIPTION:Fresno Chapter’s Conservation Gala\n				\n				\n				\n				\n									2026 Event Concluded.Thank you to all of our supporters for a successful chapter launch.Save the date for our 2027 banquet.								\n				\n				\n				\n									\n					\n						\n									get tickets\n					\n					\n				\n								\n				\n				\n				\n							Fresno Chapter’s Conservation Gala Flyer
URL:https://caldeer.org/event/ukiah-cda-banquet/
ATTACH;FMTTYPE=:
END:VEVENT
BEGIN:VEVENT
DTSTART;TZID=America/Los_Angeles:20251210T000000
DTEND;TZID=America/Los_Angeles:20251210T000000
DTSTAMP:20260425T171201
CREATED:20251210T130510Z
LAST-MODIFIED:20260303T152220Z
UID:16037-1765324800-1765324800@caldeer.org
SUMMARY:Fresno Chapter’s Conservation Gala
DESCRIPTION:Fresno Chapter’s Conservation Gala\n				\n				\n				\n				\n									2026 Event Concluded.Thank you to all of our supporters for a successful chapter launch.Save the date for our 2027 banquet.								\n				\n				\n				\n									\n					\n						\n									get tickets\n					\n					\n				\n								\n				\n				\n				\n							Fresno Chapter’s Conservation Gala Flyer
URL:https://caldeer.org/event/fresno-gala/
ATTACH;FMTTYPE=:
END:VEVENT
BEGIN:VEVENT
DTSTART;TZID=America/Los_Angeles:20251115T160000
DTEND;TZID=America/Los_Angeles:20251115T200000
DTSTAMP:20260425T171201
CREATED:20250918T180458Z
LAST-MODIFIED:20251016T015640Z
UID:14974-1763222400-1763236800@caldeer.org
SUMMARY:5th Annual Auction and Banquet
DESCRIPTION:Fresno Chapter’s Conservation Gala\n				\n				\n				\n				\n									2026 Event Concluded.Thank you to all of our supporters for a successful chapter launch.Save the date for our 2027 banquet.								\n				\n				\n				\n									\n					\n						\n									get tickets\n					\n					\n				\n								\n				\n				\n				\n							Fresno Chapter’s Conservation Gala Flyer
URL:https://caldeer.org/event/annual-auction-and-banquet/
CATEGORIES:El Dorado Chapter
ATTACH;FMTTYPE=:
END:VEVENT
BEGIN:VEVENT
DTSTART;TZID=America/Los_Angeles:20251101T163000
DTEND;TZID=America/Los_Angeles:20251101T203000
DTSTAMP:20260425T171201
CREATED:20250918T181516Z
LAST-MODIFIED:20250918T181516Z
UID:14979-1762014600-1762029000@caldeer.org
SUMMARY:Sportsmans Night Out
DESCRIPTION:Fresno Chapter’s Conservation Gala\n				\n				\n				\n				\n									2026 Event Concluded.Thank you to all of our supporters for a successful chapter launch.Save the date for our 2027 banquet.								\n				\n				\n				\n									\n					\n						\n									get tickets\n					\n					\n				\n								\n				\n				\n				\n							Fresno Chapter’s Conservation Gala Flyer
URL:https://caldeer.org/event/sportsmans-night-out/
CATEGORIES:Lake County Chapter
ATTACH;FMTTYPE=:
END:VEVENT
BEGIN:VEVENT
DTSTART;TZID=America/Los_Angeles:20250731T160000
DTEND;TZID=America/Los_Angeles:20250731T200000
DTSTAMP:20260425T171201
CREATED:20250722T210157Z
LAST-MODIFIED:20250722T210248Z
UID:14576-1753977600-1753992000@caldeer.org
SUMMARY:Big Buck Dinner & Auction
DESCRIPTION:Fresno Chapter’s Conservation Gala\n				\n				\n				\n				\n									2026 Event Concluded.Thank you to all of our supporters for a successful chapter launch.Save the date for our 2027 banquet.								\n				\n				\n				\n									\n					\n						\n									get tickets\n					\n					\n				\n								\n				\n				\n				\n							Fresno Chapter’s Conservation Gala Flyer
URL:https://caldeer.org/event/big-buck-dinner-auction/
LOCATION:900 Waterbird Way\, Martinez\, CA 94553\, 900 Waterbird Way\, Martinez\, CA\, 94553\, United States
CATEGORIES:Martinez Chapter
ATTACH;FMTTYPE=:
END:VEVENT
BEGIN:VEVENT
DTSTART;TZID=America/Los_Angeles:20250726T160000
DTEND;TZID=America/Los_Angeles:20250726T200000
DTSTAMP:20260425T171201
CREATED:20250722T211118Z
LAST-MODIFIED:20250722T211144Z
UID:14580-1753545600-1753560000@caldeer.org
SUMMARY:Conservation Dinner
DESCRIPTION:Fresno Chapter’s Conservation Gala\n				\n				\n				\n				\n									2026 Event Concluded.Thank you to all of our supporters for a successful chapter launch.Save the date for our 2027 banquet.								\n				\n				\n				\n									\n					\n						\n									get tickets\n					\n					\n				\n								\n				\n				\n				\n							Fresno Chapter’s Conservation Gala Flyer
URL:https://caldeer.org/event/conservation-dinner/
LOCATION:822 Stewart St\, Fort Bragg\, CA 95437\, 822 Stewart St\, Fort Bragg\, CA\, 95437\, United States
CATEGORIES:Fort Bragg Chapter
ATTACH;FMTTYPE=:
END:VEVENT
BEGIN:VEVENT
DTSTART;TZID=America/Los_Angeles:20250531T163000
DTEND;TZID=America/Los_Angeles:20250531T220000
DTSTAMP:20260425T171201
CREATED:20250314T195150Z
LAST-MODIFIED:20250521T161608Z
UID:13709-1748709000-1748728800@caldeer.org
SUMMARY:Bakersﬁeld Chapter 21st Annual Banquet & Auction
DESCRIPTION:Fresno Chapter’s Conservation Gala\n				\n				\n				\n				\n									2026 Event Concluded.Thank you to all of our supporters for a successful chapter launch.Save the date for our 2027 banquet.								\n				\n				\n				\n									\n					\n						\n									get tickets\n					\n					\n				\n								\n				\n				\n				\n							Fresno Chapter’s Conservation Gala Flyer
URL:https://caldeer.org/event/bakers%ef%ac%81eld-chapter-21st-annual-banquet-auction/
CATEGORIES:Bakersfield Chapter
ATTACH;FMTTYPE=:
END:VEVENT
END:VCALENDAR