BEGIN:VCALENDAR
VERSION:2.0
PRODID:-//California Deer Association - ECPv6.15.20//NONSGML v1.0//EN
CALSCALE:GREGORIAN
METHOD:PUBLISH
X-WR-CALNAME:California Deer Association
X-ORIGINAL-URL:https://caldeer.org
X-WR-CALDESC:Events for California Deer Association
REFRESH-INTERVAL;VALUE=DURATION:PT1H
X-Robots-Tag:noindex
X-PUBLISHED-TTL:PT1H
BEGIN:VTIMEZONE
TZID:America/Los_Angeles
BEGIN:DAYLIGHT
TZOFFSETFROM:-0800
TZOFFSETTO:-0700
TZNAME:PDT
DTSTART:20240310T100000
END:DAYLIGHT
BEGIN:STANDARD
TZOFFSETFROM:-0700
TZOFFSETTO:-0800
TZNAME:PST
DTSTART:20241103T090000
END:STANDARD
BEGIN:DAYLIGHT
TZOFFSETFROM:-0800
TZOFFSETTO:-0700
TZNAME:PDT
DTSTART:20250309T100000
END:DAYLIGHT
BEGIN:STANDARD
TZOFFSETFROM:-0700
TZOFFSETTO:-0800
TZNAME:PST
DTSTART:20251102T090000
END:STANDARD
BEGIN:DAYLIGHT
TZOFFSETFROM:-0800
TZOFFSETTO:-0700
TZNAME:PDT
DTSTART:20260308T100000
END:DAYLIGHT
BEGIN:STANDARD
TZOFFSETFROM:-0700
TZOFFSETTO:-0800
TZNAME:PST
DTSTART:20261101T090000
END:STANDARD
END:VTIMEZONE
BEGIN:VEVENT
DTSTART;TZID=America/Los_Angeles:20250726T160000
DTEND;TZID=America/Los_Angeles:20250726T200000
DTSTAMP:20260425T153732
CREATED:20250722T211118Z
LAST-MODIFIED:20250722T211144Z
UID:14580-1753545600-1753560000@caldeer.org
SUMMARY:Conservation Dinner
DESCRIPTION:FortBragg
URL:https://caldeer.org/event/conservation-dinner/
LOCATION:822 Stewart St\, Fort Bragg\, CA 95437\, 822 Stewart St\, Fort Bragg\, CA\, 95437\, United States
CATEGORIES:Fort Bragg Chapter
ATTACH;FMTTYPE=:
END:VEVENT
END:VCALENDAR